BEGIN:VCALENDAR
VERSION:2.0
PRODID:-//wp-events-plugin.com//7.2.3.1//EN
BEGIN:VEVENT
UID:140@parrocchiasantacaterinadasiena.it
DTSTART:20250411T173000Z
DTEND:20250411T190000Z
DTSTAMP:20250406T110218Z
URL:https://www.parrocchiasantacaterinadasiena.it/eventi/via-crucis-8/
SUMMARY:Via Crucis
DESCRIPTION:
ATTACH;FMTTYPE=image/jpeg:https://www.parrocchiasantacaterinadasiena.it/wp
 -content/uploads/2025/03/via-crucis-15-stazioni-icone-dipinte-a-mano-44x32
 -cm-romania.jpg
CATEGORIES:Celebrazioni
LOCATION:Parrocchia Santa Caterina da Siena\, Via Dell'Airone\, 18\, Palerm
 o\, 90125\, Italia
X-APPLE-STRUCTURED-LOCATION;VALUE=URI;X-ADDRESS=Via Dell'Airone\, 18\, Pale
 rmo\, 90125\, Italia;X-APPLE-RADIUS=100;X-TITLE=Parrocchia Santa Caterina 
 da Siena:geo:0,0
END:VEVENT
END:VCALENDAR