BEGIN:VCALENDAR
VERSION:2.0
PRODID:-//wp-events-plugin.com//7.2.3.1//EN
BEGIN:VEVENT
UID:144@parrocchiasantacaterinadasiena.it
DTSTART:20250430T160000Z
DTEND:20250430T180000Z
DTSTAMP:20250428T103357Z
URL:https://www.parrocchiasantacaterinadasiena.it/eventi/spettacolo-opera-
 dei-pupi/
SUMMARY:Spettacolo Opera dei Pupi
DESCRIPTION:Nel salone parrocchiale si terrà lo spettacolo dell'Opera dei 
 Pupi.
CATEGORIES:Eventi Parrocchiali
LOCATION:Parrocchia Santa Caterina da Siena\, Via Dell'Airone\, 18\, Palerm
 o\, 90125\, Italia
X-APPLE-STRUCTURED-LOCATION;VALUE=URI;X-ADDRESS=Via Dell'Airone\, 18\, Pale
 rmo\, 90125\, Italia;X-APPLE-RADIUS=100;X-TITLE=Parrocchia Santa Caterina 
 da Siena:geo:0,0
END:VEVENT
END:VCALENDAR