BEGIN:VCALENDAR
VERSION:2.0
PRODID:-//wp-events-plugin.com//7.2.3.1//EN
BEGIN:VEVENT
UID:111@parrocchiasantacaterinadasiena.it
DTSTART:20250319T173000Z
DTEND:20250319T173000Z
DTSTAMP:20250318T221014Z
URL:https://www.parrocchiasantacaterinadasiena.it/eventi/solennita-di-s-gi
 useppe-e-benedizione-del-pane/
SUMMARY:Solennità di S. Giuseppe e Benedizione del pane
DESCRIPTION:Dopo la celebrazione della S. Messa per la Solennità di S. Giu
 seppe\,\n\nvi sarà la Benedizione del pane.
CATEGORIES:Celebrazioni
LOCATION:Parrocchia Santa Caterina da Siena\, Via Dell'Airone\, 18\, Palerm
 o\, 90125\, Italia
X-APPLE-STRUCTURED-LOCATION;VALUE=URI;X-ADDRESS=Via Dell'Airone\, 18\, Pale
 rmo\, 90125\, Italia;X-APPLE-RADIUS=100;X-TITLE=Parrocchia Santa Caterina 
 da Siena:geo:0,0
END:VEVENT
END:VCALENDAR