BEGIN:VCALENDAR
VERSION:2.0
PRODID:-//wp-events-plugin.com//7.2.3.1//EN
BEGIN:VEVENT
UID:138@parrocchiasantacaterinadasiena.it
DTSTART:20250429T173000Z
DTEND:20250429T183000Z
DTSTAMP:20250406T105051Z
URL:https://www.parrocchiasantacaterinadasiena.it/eventi/solennita-di-s-ca
 terina-da-siena/
SUMMARY:SOLENNITA' DI S. CATERINA DA SIENA
DESCRIPTION:Celebrazione S. Messa per la solennità di S. Caterina da Siena
 .\n(Patrona d'Europa e d'Italia e titolare della nostra comunità parrocch
 iale).
CATEGORIES:Celebrazioni
LOCATION:Parrocchia Santa Caterina da Siena\, Via Dell'Airone\, 18\, Palerm
 o\, 90125\, Italia
X-APPLE-STRUCTURED-LOCATION;VALUE=URI;X-ADDRESS=Via Dell'Airone\, 18\, Pale
 rmo\, 90125\, Italia;X-APPLE-RADIUS=100;X-TITLE=Parrocchia Santa Caterina 
 da Siena:geo:0,0
END:VEVENT
END:VCALENDAR