BEGIN:VCALENDAR
VERSION:2.0
PRODID:-//wp-events-plugin.com//7.2.3.1//EN
BEGIN:VEVENT
UID:86@parrocchiasantacaterinadasiena.it
DTSTART:20241225T100000Z
DTEND:20241225T100000Z
DTSTAMP:20241217T190426Z
URL:https://www.parrocchiasantacaterinadasiena.it/eventi/solennita-di-nata
 le/
SUMMARY:Solennità di Natale
DESCRIPTION:
ATTACH;FMTTYPE=image/jpeg:https://www.parrocchiasantacaterinadasiena.it/wp
 -content/uploads/2023/12/20231225_130645_rid-rotated.jpg
CATEGORIES:Celebrazioni
LOCATION:Parrocchia Santa Caterina da Siena\, Via Dell'Airone\, 18\, Palerm
 o\, 90125\, Italia
X-APPLE-STRUCTURED-LOCATION;VALUE=URI;X-ADDRESS=Via Dell'Airone\, 18\, Pale
 rmo\, 90125\, Italia;X-APPLE-RADIUS=100;X-TITLE=Parrocchia Santa Caterina 
 da Siena:geo:0,0
END:VEVENT
END:VCALENDAR