BEGIN:VCALENDAR
VERSION:2.0
PRODID:-//wp-events-plugin.com//7.2.3.1//EN
BEGIN:VEVENT
UID:125@parrocchiasantacaterinadasiena.it
DTSTART:20250418T173000Z
DTEND:20250418T193000Z
DTSTAMP:20250418T145752Z
URL:https://www.parrocchiasantacaterinadasiena.it/eventi/solenne-adorazion
 e-della-croce/
SUMMARY:VENERDI' SANTO - Solenne Adorazione della Croce
DESCRIPTION:Solenne Adorazione della Croce.
ATTACH;FMTTYPE=image/jpeg:https://www.parrocchiasantacaterinadasiena.it/wp
 -content/uploads/2025/04/Il-Crocifisso-scaled.jpg
CATEGORIES:Celebrazioni
LOCATION:Parrocchia Santa Caterina da Siena\, Via Dell'Airone\, 18\, Palerm
 o\, 90125\, Italia
X-APPLE-STRUCTURED-LOCATION;VALUE=URI;X-ADDRESS=Via Dell'Airone\, 18\, Pale
 rmo\, 90125\, Italia;X-APPLE-RADIUS=100;X-TITLE=Parrocchia Santa Caterina 
 da Siena:geo:0,0
END:VEVENT
END:VCALENDAR