BEGIN:VCALENDAR
VERSION:2.0
PRODID:-//wp-events-plugin.com//7.2.3.1//EN
BEGIN:VEVENT
UID:77@parrocchiasantacaterinadasiena.it
DTSTART:20241208T100000Z
DTEND:20241208T100000Z
DTSTAMP:20241207T173006Z
URL:https://www.parrocchiasantacaterinadasiena.it/eventi/santa-messa-solen
 nita-dellimmacolata/
SUMMARY:Santa Messa solennità dell'Immacolata
DESCRIPTION:
ATTACH;FMTTYPE=image/jpeg:https://www.parrocchiasantacaterinadasiena.it/wp
 -content/uploads/2024/12/Immacolata-concezione.jpg
CATEGORIES:Celebrazioni
LOCATION:Parrocchia Santa Caterina da Siena\, Via Dell'Airone\, 18\, Palerm
 o\, 90125\, Italia
X-APPLE-STRUCTURED-LOCATION;VALUE=URI;X-ADDRESS=Via Dell'Airone\, 18\, Pale
 rmo\, 90125\, Italia;X-APPLE-RADIUS=100;X-TITLE=Parrocchia Santa Caterina 
 da Siena:geo:0,0
END:VEVENT
END:VCALENDAR