BEGIN:VCALENDAR
VERSION:2.0
PRODID:-//wp-events-plugin.com//7.2.3.1//EN
BEGIN:VEVENT
UID:136@parrocchiasantacaterinadasiena.it
DTSTART:20250419T223000Z
DTEND:20250419T235900Z
DTSTAMP:20250420T082330Z
URL:https://www.parrocchiasantacaterinadasiena.it/eventi/sabato-santo-vegl
 ia-pasquale-5/
SUMMARY:SABATO SANTO - Veglia Pasquale
DESCRIPTION:Celebrazione della Veglia Pasquale e Resurrezione del Signore.
ATTACH;FMTTYPE=image/jpeg:https://www.parrocchiasantacaterinadasiena.it/wp
 -content/uploads/2025/04/flaming-candles-like-small-bulbs-2-scaled.jpg
CATEGORIES:Celebrazioni
LOCATION:Parrocchia Santa Caterina da Siena\, Via Dell'Airone\, 18\, Palerm
 o\, 90125\, Italia
X-APPLE-STRUCTURED-LOCATION;VALUE=URI;X-ADDRESS=Via Dell'Airone\, 18\, Pale
 rmo\, 90125\, Italia;X-APPLE-RADIUS=100;X-TITLE=Parrocchia Santa Caterina 
 da Siena:geo:0,0
END:VEVENT
END:VCALENDAR