BEGIN:VCALENDAR
VERSION:2.0
PRODID:-//wp-events-plugin.com//7.2.3.1//EN
BEGIN:VEVENT
UID:178@parrocchiasantacaterinadasiena.it
DTSTART:20260211T170000Z
DTEND:20260211T183000Z
DTSTAMP:20260209T225850Z
URL:https://www.parrocchiasantacaterinadasiena.it/eventi/s-messa-per-la-ri
 correnza-della-madonna-di-lourdes-e-unzione-degli-infermi/
SUMMARY:S. Messa per la ricorrenza della Madonna di Lourdes e Unzione degli
  Infermi
DESCRIPTION:
CATEGORIES:Celebrazioni
LOCATION:Parrocchia Santa Caterina da Siena\, Via Dell'Airone\, 18\, Palerm
 o\, 90125\, Italia
X-APPLE-STRUCTURED-LOCATION;VALUE=URI;X-ADDRESS=Via Dell'Airone\, 18\, Pale
 rmo\, 90125\, Italia;X-APPLE-RADIUS=100;X-TITLE=Parrocchia Santa Caterina 
 da Siena:geo:0,0
END:VEVENT
END:VCALENDAR