BEGIN:VCALENDAR
VERSION:2.0
PRODID:-//wp-events-plugin.com//7.2.3.1//EN
BEGIN:VEVENT
UID:152@parrocchiasantacaterinadasiena.it
DTSTART:20250815T100000Z
DTEND:20250815T110000Z
DTSTAMP:20250811T080236Z
URL:https://www.parrocchiasantacaterinadasiena.it/eventi/s-messa-della-sol
 ennita-dellassunzione-della-beata-vergine-maria/
SUMMARY:S. Messa della Solennità dell'Assunzione della Beata Vergine Maria
DESCRIPTION:
ATTACH;FMTTYPE=image/jpeg:https://www.parrocchiasantacaterinadasiena.it/wp
 -content/uploads/2025/08/Assunzione-di-Maria_comp.jpg
CATEGORIES:Celebrazioni
LOCATION:Parrocchia Santa Caterina da Siena\, Via Dell'Airone\, 18\, Palerm
 o\, 90125\, Italia
X-APPLE-STRUCTURED-LOCATION;VALUE=URI;X-ADDRESS=Via Dell'Airone\, 18\, Pale
 rmo\, 90125\, Italia;X-APPLE-RADIUS=100;X-TITLE=Parrocchia Santa Caterina 
 da Siena:geo:0,0
END:VEVENT
END:VCALENDAR