BEGIN:VCALENDAR
VERSION:2.0
PRODID:-//wp-events-plugin.com//7.2.3.1//EN
BEGIN:VEVENT
UID:147@parrocchiasantacaterinadasiena.it
DTSTART:20250604T173000Z
DTEND:20250604T190000Z
DTSTAMP:20250603T105414Z
URL:https://www.parrocchiasantacaterinadasiena.it/eventi/s-messa-conclusiv
 a-per-il-catechismo/
SUMMARY:S. Messa conclusiva per il catechismo
DESCRIPTION:
CATEGORIES:Celebrazioni
LOCATION:Parrocchia Santa Caterina da Siena\, Via Dell'Airone\, 18\, Palerm
 o\, 90125\, Italia
X-APPLE-STRUCTURED-LOCATION;VALUE=URI;X-ADDRESS=Via Dell'Airone\, 18\, Pale
 rmo\, 90125\, Italia;X-APPLE-RADIUS=100;X-TITLE=Parrocchia Santa Caterina 
 da Siena:geo:0,0
END:VEVENT
END:VCALENDAR