BEGIN:VCALENDAR
VERSION:2.0
PRODID:-//wp-events-plugin.com//7.2.3.1//EN
BEGIN:VEVENT
UID:106@parrocchiasantacaterinadasiena.it
DTSTART:20250309T160000Z
DTEND:20250309T200000Z
DTSTAMP:20250309T143943Z
URL:https://www.parrocchiasantacaterinadasiena.it/eventi/ritiro-per-la-qua
 resima/
SUMMARY:Ritiro per la Quaresima
DESCRIPTION:Ritiro Spirituale per la Quaresima:\nRelatore Don Gioacchino D'
 Agostino
CATEGORIES:Incontri di catechesi
LOCATION:Parrocchia Santa Caterina da Siena\, Via Dell'Airone\, 18\, Palerm
 o\, 90125\, Italia
X-APPLE-STRUCTURED-LOCATION;VALUE=URI;X-ADDRESS=Via Dell'Airone\, 18\, Pale
 rmo\, 90125\, Italia;X-APPLE-RADIUS=100;X-TITLE=Parrocchia Santa Caterina 
 da Siena:geo:0,0
END:VEVENT
END:VCALENDAR