BEGIN:VCALENDAR
VERSION:2.0
PRODID:-//wp-events-plugin.com//7.2.3.1//EN
BEGIN:VEVENT
UID:153@parrocchiasantacaterinadasiena.it
DTSTART:20250916T210000Z
DTEND:20250916T220000Z
DTSTAMP:20250913T152819Z
URL:https://www.parrocchiasantacaterinadasiena.it/eventi/preghiera-di-lode
 -carismatica/
SUMMARY:Preghiera di lode carismatica
DESCRIPTION:
ATTACH;FMTTYPE=image/jpeg:https://www.parrocchiasantacaterinadasiena.it/wp
 -content/uploads/2025/09/Preghiera-di-lode-carismatica-2.jpeg
CATEGORIES:Celebrazioni
LOCATION:Parrocchia Santa Caterina da Siena\, Via Dell'Airone\, 18\, Palerm
 o\, 90125\, Italia
X-APPLE-STRUCTURED-LOCATION;VALUE=URI;X-ADDRESS=Via Dell'Airone\, 18\, Pale
 rmo\, 90125\, Italia;X-APPLE-RADIUS=100;X-TITLE=Parrocchia Santa Caterina 
 da Siena:geo:0,0
END:VEVENT
END:VCALENDAR