BEGIN:VCALENDAR
VERSION:2.0
PRODID:-//wp-events-plugin.com//7.2.3.1//EN
BEGIN:VEVENT
UID:135@parrocchiasantacaterinadasiena.it
DTSTART:20250420T120000Z
DTEND:20250420T130000Z
DTSTAMP:20250420T081724Z
URL:https://www.parrocchiasantacaterinadasiena.it/eventi/pasqua-di-resurre
 zione-del-signore-4/
SUMMARY:PASQUA DI RESURREZIONE DEL SIGNORE
DESCRIPTION:Celebrazione della Pasqua di Resurrezione del Signore.
ATTACH;FMTTYPE=image/jpeg:https://www.parrocchiasantacaterinadasiena.it/wp
 -content/uploads/2025/04/20250420_012618-scaled.jpg
CATEGORIES:Celebrazioni
LOCATION:Parrocchia Santa Caterina da Siena\, Via Dell'Airone\, 18\, Palerm
 o\, 90125\, Italia
X-APPLE-STRUCTURED-LOCATION;VALUE=URI;X-ADDRESS=Via Dell'Airone\, 18\, Pale
 rmo\, 90125\, Italia;X-APPLE-RADIUS=100;X-TITLE=Parrocchia Santa Caterina 
 da Siena:geo:0,0
END:VEVENT
END:VCALENDAR