BEGIN:VCALENDAR
VERSION:2.0
PRODID:-//wp-events-plugin.com//7.2.3.1//EN
BEGIN:VEVENT
UID:84@parrocchiasantacaterinadasiena.it
DTSTART:20241224T180000Z
DTEND:20241224T180000Z
DTSTAMP:20241223T105859Z
URL:https://www.parrocchiasantacaterinadasiena.it/eventi/novena-di-natale/
SUMMARY:Novena di Natale
DESCRIPTION:Si celebrerà la Novena di Natale ma non sarà celebrata la S. 
 Messa.
ATTACH;FMTTYPE=image/jpeg:https://www.parrocchiasantacaterinadasiena.it/wp
 -content/uploads/2024/12/Avvento_rit-rid.jpg
CATEGORIES:Celebrazioni
LOCATION:Parrocchia Santa Caterina da Siena\, Via Dell'Airone\, 18\, Palerm
 o\, 90125\, Italia
X-APPLE-STRUCTURED-LOCATION;VALUE=URI;X-ADDRESS=Via Dell'Airone\, 18\, Pale
 rmo\, 90125\, Italia;X-APPLE-RADIUS=100;X-TITLE=Parrocchia Santa Caterina 
 da Siena:geo:0,0
END:VEVENT
END:VCALENDAR