BEGIN:VCALENDAR
VERSION:2.0
PRODID:-//wp-events-plugin.com//7.2.3.1//EN
BEGIN:VEVENT
UID:142@parrocchiasantacaterinadasiena.it
DTSTART:20250424T183000Z
DTEND:20250424T200000Z
DTSTAMP:20250422T150852Z
URL:https://www.parrocchiasantacaterinadasiena.it/eventi/messa-di-suffragi
 o-per-papa-francesco/
SUMMARY:Messa di suffragio per Papa Francesco
DESCRIPTION:
CATEGORIES:Celebrazioni
LOCATION:Chiesa Cattedrale di Palermo\, Via Vittorio Emanuele\, Palermo\, 9
 0100\, Italia
X-APPLE-STRUCTURED-LOCATION;VALUE=URI;X-ADDRESS=Via Vittorio Emanuele\, Pal
 ermo\, 90100\, Italia;X-APPLE-RADIUS=100;X-TITLE=Chiesa Cattedrale di Pale
 rmo:geo:0,0
END:VEVENT
END:VCALENDAR