BEGIN:VCALENDAR
VERSION:2.0
PRODID:-//wp-events-plugin.com//7.2.3.1//EN
BEGIN:VEVENT
UID:123@parrocchiasantacaterinadasiena.it
DTSTART:20250414T203000Z
DTEND:20250414T220000Z
DTSTAMP:20250411T184648Z
URL:https://www.parrocchiasantacaterinadasiena.it/eventi/lunedi-santo-2/
SUMMARY:Liturgia Penitenziale comunitaria
DESCRIPTION:Liturgia Penitenziale comunitaria nella Parrocchia di S.G.M. Vi
 anney "S. Curato d'Ars" - Falsomiele
ATTACH;FMTTYPE=image/jpeg:https://www.parrocchiasantacaterinadasiena.it/wp
 -content/uploads/2025/04/penitenziale_2019.jpg
CATEGORIES:Celebrazioni
LOCATION:Parrocchia S. Giovanni Maria Vianney - "S. Curato d'Ars" - Falsomi
 ele\, Via Girolamo Scaccia\, 13\, Palermo\, Italia
X-APPLE-STRUCTURED-LOCATION;VALUE=URI;X-ADDRESS=Via Girolamo Scaccia\, 13\,
  Palermo\, Italia;X-APPLE-RADIUS=100;X-TITLE=Parrocchia S. Giovanni Maria 
 Vianney - \"S. Curato d'Ars\" - Falsomiele:geo:0,0
END:VEVENT
END:VCALENDAR