BEGIN:VCALENDAR
VERSION:2.0
PRODID:-//wp-events-plugin.com//7.2.3.1//EN
BEGIN:VEVENT
UID:137@parrocchiasantacaterinadasiena.it
DTSTART:20250421T090000Z
DTEND:20250421T100000Z
DTSTAMP:20250406T104735Z
URL:https://www.parrocchiasantacaterinadasiena.it/eventi/lunedi-dellangelo
 -con-i-defunti/
SUMMARY:LUNEDI' DELL'ANGELO CON I DEFUNTI
DESCRIPTION:Celebrazione S. Messa per i defunti.
CATEGORIES:Celebrazioni
LOCATION:Parrocchia Santa Caterina da Siena\, Via Dell'Airone\, 18\, Palerm
 o\, 90125\, Italia
X-APPLE-STRUCTURED-LOCATION;VALUE=URI;X-ADDRESS=Via Dell'Airone\, 18\, Pale
 rmo\, 90125\, Italia;X-APPLE-RADIUS=100;X-TITLE=Parrocchia Santa Caterina 
 da Siena:geo:0,0
END:VEVENT
END:VCALENDAR