BEGIN:VCALENDAR
VERSION:2.0
PRODID:-//wp-events-plugin.com//7.2.3.1//EN
BEGIN:VEVENT
UID:83@parrocchiasantacaterinadasiena.it
DTSTART:20241219T210000Z
DTEND:20241219T210000Z
DTSTAMP:20241217T185234Z
URL:https://www.parrocchiasantacaterinadasiena.it/eventi/liturgia-penitenz
 iale/
SUMMARY:Liturgia Penitenziale
DESCRIPTION:La Liturgia Penitenziale sarà celebrata presso la Parrocchia S
 . Maria di Gesù.
CATEGORIES:Celebrazioni
LOCATION:Parrocchia S. Maria di Gesù\, Piazza Santa Maria di Gesù\, Paler
 mo\, 90124\, Italia
X-APPLE-STRUCTURED-LOCATION;VALUE=URI;X-ADDRESS=Piazza Santa Maria di Gesù
 \, Palermo\, 90124\, Italia;X-APPLE-RADIUS=100;X-TITLE=Parrocchia S. Maria
  di Gesù:geo:0,0
END:VEVENT
END:VCALENDAR