BEGIN:VCALENDAR
VERSION:2.0
PRODID:-//wp-events-plugin.com//7.2.3.1//EN
BEGIN:VEVENT
UID:170@parrocchiasantacaterinadasiena.it
DTSTART:20251110T210000Z
DTEND:20251110T220000Z
DTSTAMP:20251109T180003Z
URL:https://www.parrocchiasantacaterinadasiena.it/eventi/inizio-percorso-p
 rematrimoniale/
SUMMARY:Inizio percorso prematrimoniale
DESCRIPTION:Le riunioni del percorso prematrimoniale si terranno nel salone
  parrocchiale.
CATEGORIES:Incontri di catechesi
LOCATION:Parrocchia Santa Caterina da Siena\, Via Dell'Airone\, 18\, Palerm
 o\, 90125\, Italia
X-APPLE-STRUCTURED-LOCATION;VALUE=URI;X-ADDRESS=Via Dell'Airone\, 18\, Pale
 rmo\, 90125\, Italia;X-APPLE-RADIUS=100;X-TITLE=Parrocchia Santa Caterina 
 da Siena:geo:0,0
END:VEVENT
END:VCALENDAR