BEGIN:VCALENDAR
VERSION:2.0
PRODID:-//wp-events-plugin.com//7.2.3.1//EN
BEGIN:VEVENT
UID:166@parrocchiasantacaterinadasiena.it
DTSTART:20251106T210000Z
DTEND:20251106T220000Z
DTSTAMP:20251108T085447Z
URL:https://www.parrocchiasantacaterinadasiena.it/eventi/inizio-percorso-d
 i-cresima-giovani-e-adulti/
SUMMARY:Inizio Percorso di Cresima Giovani e Adulti
DESCRIPTION:
CATEGORIES:Incontri di catechesi
LOCATION:Parrocchia Santa Caterina da Siena\, Via Dell'Airone\, 18\, Palerm
 o\, 90125\, Italia
X-APPLE-STRUCTURED-LOCATION;VALUE=URI;X-ADDRESS=Via Dell'Airone\, 18\, Pale
 rmo\, 90125\, Italia;X-APPLE-RADIUS=100;X-TITLE=Parrocchia Santa Caterina 
 da Siena:geo:0,0
END:VEVENT
END:VCALENDAR