BEGIN:VCALENDAR
VERSION:2.0
PRODID:-//wp-events-plugin.com//7.2.3.1//EN
BEGIN:VEVENT
UID:175@parrocchiasantacaterinadasiena.it
DTSTART:20251129T173000Z
DTEND:20251129T180000Z
DTSTAMP:20251130T153350Z
URL:https://www.parrocchiasantacaterinadasiena.it/eventi/inizio-novena-imm
 acolata/
SUMMARY:Inizio Novena Immacolata
DESCRIPTION:
CATEGORIES:Celebrazioni
LOCATION:Parrocchia Santa Caterina da Siena\, Via Dell'Airone\, 18\, Palerm
 o\, 90125\, Italia
X-APPLE-STRUCTURED-LOCATION;VALUE=URI;X-ADDRESS=Via Dell'Airone\, 18\, Pale
 rmo\, 90125\, Italia;X-APPLE-RADIUS=100;X-TITLE=Parrocchia Santa Caterina 
 da Siena:geo:0,0
END:VEVENT
END:VCALENDAR