BEGIN:VCALENDAR
VERSION:2.0
PRODID:-//wp-events-plugin.com//7.2.3.1//EN
BEGIN:VEVENT
UID:119@parrocchiasantacaterinadasiena.it
DTSTART:20250402T210000Z
DTEND:20250402T220000Z
DTSTAMP:20250328T121112Z
URL:https://www.parrocchiasantacaterinadasiena.it/eventi/inizio-incontri-d
 i-preparazione-al-sacramento-della-cresima/
SUMMARY:Inizio incontri di preparazione al Sacramento della Cresima
DESCRIPTION:Inizio incontri di preparazione al Sacramento della Cresima per
  giovani e adulti.\n\nGli incontri saranno curati dal catechista Antonio M
 usmeci.
CATEGORIES:Incontri di catechesi
LOCATION:Parrocchia Santa Caterina da Siena\, Via Dell'Airone\, 18\, Palerm
 o\, 90125\, Italia
X-APPLE-STRUCTURED-LOCATION;VALUE=URI;X-ADDRESS=Via Dell'Airone\, 18\, Pale
 rmo\, 90125\, Italia;X-APPLE-RADIUS=100;X-TITLE=Parrocchia Santa Caterina 
 da Siena:geo:0,0
END:VEVENT
END:VCALENDAR