BEGIN:VCALENDAR
VERSION:2.0
PRODID:-//wp-events-plugin.com//7.2.3.1//EN
BEGIN:VEVENT
UID:98@parrocchiasantacaterinadasiena.it
DTSTART:20250219T183000Z
DTEND:20250219T183000Z
DTSTAMP:20250218T100446Z
URL:https://www.parrocchiasantacaterinadasiena.it/eventi/incontro-sulla-de
 i-verbum/
SUMMARY:Incontro sulla "Dei Verbum"
DESCRIPTION:Relatore: Don Gaetano Marsiglia
CATEGORIES:Eventi di zona pastorale
LOCATION:Chiesa Parrocchiale di San Luca Evangelista\, Via Giuseppe Parator
 e\, 6\, Palermo\, 90124\, 
X-APPLE-STRUCTURED-LOCATION;VALUE=URI;X-ADDRESS=Via Giuseppe Paratore\, 6\,
  Palermo\, 90124\, ;X-APPLE-RADIUS=100;X-TITLE=Chiesa Parrocchiale di San 
 Luca Evangelista:geo:0,0
END:VEVENT
END:VCALENDAR