BEGIN:VCALENDAR
VERSION:2.0
PRODID:-//wp-events-plugin.com//7.2.3.1//EN
BEGIN:VEVENT
UID:99@parrocchiasantacaterinadasiena.it
DTSTART:20250223T160000Z
DTEND:20250223T160000Z
DTSTAMP:20250221T133614Z
URL:https://www.parrocchiasantacaterinadasiena.it/eventi/incontro-famiglie
 -del-catechismo/
SUMMARY:Incontro Famiglie del catechismo
DESCRIPTION:Incontro Famiglie del catechismo del nuovo Progetto Catechistic
 o Diocesano per l'Iniziazione Cristiana dei fanciulli e ragazzi.
CATEGORIES:Incontri di catechesi
LOCATION:Parrocchia Santa Caterina da Siena\, Via Dell'Airone\, 18\, Palerm
 o\, 90125\, Italia
X-APPLE-STRUCTURED-LOCATION;VALUE=URI;X-ADDRESS=Via Dell'Airone\, 18\, Pale
 rmo\, 90125\, Italia;X-APPLE-RADIUS=100;X-TITLE=Parrocchia Santa Caterina 
 da Siena:geo:0,0
END:VEVENT
END:VCALENDAR