BEGIN:VCALENDAR
VERSION:2.0
PRODID:-//wp-events-plugin.com//7.2.3.1//EN
BEGIN:VEVENT
UID:102@parrocchiasantacaterinadasiena.it
DTSTART:20250228T210000Z
DTEND:20250228T210000Z
DTSTAMP:20250221T135254Z
URL:https://www.parrocchiasantacaterinadasiena.it/eventi/incontro-di-pasto
 rale-giovanile/
SUMMARY:Incontro di Pastorale Giovanile
DESCRIPTION:L'incontro sarà presieduto dal Vescovo di Palermo.
CATEGORIES:Eventi di zona pastorale
LOCATION:Parrocchia Sacra Famiglia\, Via Gaspare Mignosi\, 18\, Palermo\, I
 talia
X-APPLE-STRUCTURED-LOCATION;VALUE=URI;X-ADDRESS=Via Gaspare Mignosi\, 18\, 
 Palermo\, Italia;X-APPLE-RADIUS=100;X-TITLE=Parrocchia Sacra Famiglia:geo:
 0,0
END:VEVENT
END:VCALENDAR