BEGIN:VCALENDAR
VERSION:2.0
PRODID:-//wp-events-plugin.com//7.2.3.1//EN
BEGIN:VEVENT
UID:94@parrocchiasantacaterinadasiena.it
DTSTART:20250207T183000Z
DTEND:20250207T183000Z
DTSTAMP:20250201T100705Z
URL:https://www.parrocchiasantacaterinadasiena.it/eventi/incontro-di-forma
 zione-sul-sacramento-della-riconciliazione/
SUMMARY:Incontro di formazione sul Sacramento della Riconciliazione
DESCRIPTION:
ATTACH;FMTTYPE=image/jpeg:https://www.parrocchiasantacaterinadasiena.it/wp
 -content/uploads/2025/02/Incontro-di-formazione-7.02.2025_rid.jpg
CATEGORIES:Eventi di zona pastorale
LOCATION:Teatro parrocchiale "San Giuseppe" Chiavelli\, Via Belmonte Chiave
 lli\, 104\, Palermo\, Italia
X-APPLE-STRUCTURED-LOCATION;VALUE=URI;X-ADDRESS=Via Belmonte Chiavelli\, 10
 4\, Palermo\, Italia;X-APPLE-RADIUS=100;X-TITLE=Teatro parrocchiale \"San 
 Giuseppe\" Chiavelli:geo:0,0
END:VEVENT
END:VCALENDAR