BEGIN:VCALENDAR
VERSION:2.0
PRODID:-//wp-events-plugin.com//7.2.3.1//EN
BEGIN:VEVENT
UID:92@parrocchiasantacaterinadasiena.it
DTSTART:20241229T170000Z
DTEND:20241229T170000Z
DTSTAMP:20241228T104033Z
URL:https://www.parrocchiasantacaterinadasiena.it/eventi/giubileo-diocesan
 o-2/
SUMMARY:Giubileo Diocesano
DESCRIPTION:Il Giubileo Diocesano si celebrerà nella Chiesa Cattedrale di 
 Palermo.\n\nAppuntamento alle ore 17:00 in Piazza Settangeli (dietro la Ca
 ttedrale).\nSi ricorda che la S. Messa delle ore 18:00 non sarà celebrata
  in nessuna Chiesa della Diocesi di Palermo.\n\n&nbsp\;
ATTACH;FMTTYPE=image/jpeg:https://www.parrocchiasantacaterinadasiena.it/wp
 -content/uploads/2024/12/IMG-20241228-WA0008_rid-1.jpg
CATEGORIES:Celebrazioni
LOCATION:Chiesa Cattedrale di Palermo\, Via Vittorio Emanuele\, Palermo\, 9
 0100\, Italia
X-APPLE-STRUCTURED-LOCATION;VALUE=URI;X-ADDRESS=Via Vittorio Emanuele\, Pal
 ermo\, 90100\, Italia;X-APPLE-RADIUS=100;X-TITLE=Chiesa Cattedrale di Pale
 rmo:geo:0,0
END:VEVENT
END:VCALENDAR