BEGIN:VCALENDAR
VERSION:2.0
PRODID:-//wp-events-plugin.com//7.2.3.1//EN
BEGIN:VEVENT
UID:128@parrocchiasantacaterinadasiena.it
DTSTART:20250417T180000Z
DTEND:20250417T193000Z
DTSTAMP:20250411T193801Z
URL:https://www.parrocchiasantacaterinadasiena.it/eventi/giovedi-santo-s-m
 essa-in-coena-domini/
SUMMARY:GIOVEDI' - S. Messa in "Coena Domini"
DESCRIPTION:Celebrazione S. Messa in "Coena Domini".
ATTACH;FMTTYPE=image/jpeg:https://www.parrocchiasantacaterinadasiena.it/wp
 -content/uploads/2025/04/Coena-Domini-1.png
CATEGORIES:Celebrazioni
LOCATION:Parrocchia Santa Caterina da Siena\, Via Dell'Airone\, 18\, Palerm
 o\, 90125\, Italia
X-APPLE-STRUCTURED-LOCATION;VALUE=URI;X-ADDRESS=Via Dell'Airone\, 18\, Pale
 rmo\, 90125\, Italia;X-APPLE-RADIUS=100;X-TITLE=Parrocchia Santa Caterina 
 da Siena:geo:0,0
END:VEVENT
END:VCALENDAR