BEGIN:VCALENDAR
VERSION:2.0
PRODID:-//wp-events-plugin.com//7.2.3.1//EN
BEGIN:VEVENT
UID:127@parrocchiasantacaterinadasiena.it
DTSTART:20250417T093000Z
DTEND:20250417T130000Z
DTSTAMP:20250411T200039Z
URL:https://www.parrocchiasantacaterinadasiena.it/eventi/giovedi-santo-s-m
 essa-crismale-nella-chiesa-cattedrale-di-palermo/
SUMMARY:GIOVEDI' SANTO - S. Messa Crismale nella Chiesa Cattedrale di Paler
 mo
DESCRIPTION:Celebrazione S. Messa Crismale nella Chiesa Cattedrale.
ATTACH;FMTTYPE=image/jpeg:https://www.parrocchiasantacaterinadasiena.it/wp
 -content/uploads/2025/04/sddefault.jpg
CATEGORIES:Celebrazioni
LOCATION:Chiesa Cattedrale di Palermo\, Via Vittorio Emanuele\, Palermo\, 9
 0100\, Italia
X-APPLE-STRUCTURED-LOCATION;VALUE=URI;X-ADDRESS=Via Vittorio Emanuele\, Pal
 ermo\, 90100\, Italia;X-APPLE-RADIUS=100;X-TITLE=Chiesa Cattedrale di Pale
 rmo:geo:0,0
END:VEVENT
END:VCALENDAR