BEGIN:VCALENDAR
VERSION:2.0
PRODID:-//wp-events-plugin.com//7.2.3.1//EN
BEGIN:VEVENT
UID:82@parrocchiasantacaterinadasiena.it
DTSTART:20241218T190000Z
DTEND:20241218T190000Z
DTSTAMP:20241217T184937Z
URL:https://www.parrocchiasantacaterinadasiena.it/eventi/formazione-dioces
 ana-per-catechisti-e-parroci/
SUMMARY:Formazione Diocesana per catechisti e parroci
DESCRIPTION:L'incontro si terrà nel salone parrocchiale.
CATEGORIES:Incontri di catechesi
LOCATION:Parrocchia Santa Caterina da Siena\, Via Dell'Airone\, 18\, Palerm
 o\, 90125\, Italia
X-APPLE-STRUCTURED-LOCATION;VALUE=URI;X-ADDRESS=Via Dell'Airone\, 18\, Pale
 rmo\, 90125\, Italia;X-APPLE-RADIUS=100;X-TITLE=Parrocchia Santa Caterina 
 da Siena:geo:0,0
END:VEVENT
END:VCALENDAR