BEGIN:VCALENDAR
VERSION:2.0
PRODID:-//wp-events-plugin.com//7.2.3.1//EN
BEGIN:VEVENT
UID:155@parrocchiasantacaterinadasiena.it
DTSTART:20251004T173000Z
DTEND:20251004T190000Z
DTSTAMP:20251001T093144Z
URL:https://www.parrocchiasantacaterinadasiena.it/eventi/festa-di-s-france
 sco-dassisi/
SUMMARY:Festa di S. Francesco d'Assisi
DESCRIPTION:Il prossimo 4 ottobre alle ore 17:30 in occasione della ricorre
 nza di S. Francesco d'Assisi\, patrono d'Italia\, vi sarà la Benedizione 
 degli animali nel sagrato della Parrocchia.\n\nSeguirà la Santa Messa del
 le ore 18:00.
CATEGORIES:Celebrazioni
LOCATION:Parrocchia Santa Caterina da Siena\, Via Dell'Airone\, 18\, Palerm
 o\, 90125\, Italia
X-APPLE-STRUCTURED-LOCATION;VALUE=URI;X-ADDRESS=Via Dell'Airone\, 18\, Pale
 rmo\, 90125\, Italia;X-APPLE-RADIUS=100;X-TITLE=Parrocchia Santa Caterina 
 da Siena:geo:0,0
END:VEVENT
END:VCALENDAR