BEGIN:VCALENDAR
VERSION:2.0
PRODID:-//wp-events-plugin.com//7.2.3.1//EN
BEGIN:VEVENT
UID:117@parrocchiasantacaterinadasiena.it
DTSTART:20250407T190000Z
DTEND:20250407T200000Z
DTSTAMP:20250401T084602Z
URL:https://www.parrocchiasantacaterinadasiena.it/eventi/esercizi-spiritua
 li-di-quaresina-3/
SUMMARY:Esercizi Spirituali di Quaresina
DESCRIPTION:Il tema degli esercizi è: Io sono Giuseppe\, vostro fratello.\
 nRelatore: Don Fabrizio Moscato
ATTACH;FMTTYPE=image/jpeg:https://www.parrocchiasantacaterinadasiena.it/wp
 -content/uploads/2025/03/Esercizi-Spirituali.jpeg
CATEGORIES:Eventi di zona pastorale
LOCATION:Parrocchia Maria SS. di Pompei\, Via Papa Giovanni XXIII\, 1\, Pal
 ermo\, 90125\, Italia
X-APPLE-STRUCTURED-LOCATION;VALUE=URI;X-ADDRESS=Via Papa Giovanni XXIII\, 1
 \, Palermo\, 90125\, Italia;X-APPLE-RADIUS=100;X-TITLE=Parrocchia Maria SS
 . di Pompei:geo:0,0
END:VEVENT
END:VCALENDAR