BEGIN:VCALENDAR
VERSION:2.0
PRODID:-//wp-events-plugin.com//7.2.3.1//EN
BEGIN:VEVENT
UID:150@parrocchiasantacaterinadasiena.it
DTSTART:20250621T090000Z
DTEND:20250621T123000Z
DTSTAMP:20250616T173742Z
URL:https://www.parrocchiasantacaterinadasiena.it/eventi/convegno-diocesan
 o-2/
SUMMARY:Convegno Diocesano - Un annuncio che incontra la vita
DESCRIPTION:Per la partecipazione è necessario iscriversi al seguente link
 : Iscrizione
ATTACH;FMTTYPE=image/jpeg:https://www.parrocchiasantacaterinadasiena.it/wp
 -content/uploads/2025/06/Convegno-Diocesano.jpg
CATEGORIES:Incontri di catechesi
LOCATION:Parrocchia Santa Caterina da Siena\, Via Dell'Airone\, 18\, Palerm
 o\, 90125\, Italia
X-APPLE-STRUCTURED-LOCATION;VALUE=URI;X-ADDRESS=Via Dell'Airone\, 18\, Pale
 rmo\, 90125\, Italia;X-APPLE-RADIUS=100;X-TITLE=Parrocchia Santa Caterina 
 da Siena:geo:0,0
END:VEVENT
END:VCALENDAR