BEGIN:VCALENDAR
VERSION:2.0
PRODID:-//wp-events-plugin.com//7.2.3.1//EN
BEGIN:VEVENT
UID:85@parrocchiasantacaterinadasiena.it
DTSTART:20241224T223000Z
DTEND:20241224T223000Z
DTSTAMP:20241223T114601Z
URL:https://www.parrocchiasantacaterinadasiena.it/eventi/celebrazione-vegl
 ia-di-natale/
SUMMARY:Celebrazione Veglia di Natale
DESCRIPTION:
ATTACH;FMTTYPE=image/jpeg:https://www.parrocchiasantacaterinadasiena.it/wp
 -content/uploads/2024/12/Veglia-di-Natale_10_rid-300x215-1.jpg
CATEGORIES:Celebrazioni
LOCATION:Parrocchia Santa Caterina da Siena\, Via Dell'Airone\, 18\, Palerm
 o\, 90125\, Italia
X-APPLE-STRUCTURED-LOCATION;VALUE=URI;X-ADDRESS=Via Dell'Airone\, 18\, Pale
 rmo\, 90125\, Italia;X-APPLE-RADIUS=100;X-TITLE=Parrocchia Santa Caterina 
 da Siena:geo:0,0
END:VEVENT
END:VCALENDAR