BEGIN:VCALENDAR
VERSION:2.0
PRODID:-//wp-events-plugin.com//7.2.3.1//EN
BEGIN:VEVENT
UID:146@parrocchiasantacaterinadasiena.it
DTSTART:20250522T163000Z
DTEND:20250522T173000Z
DTSTAMP:20250518T140357Z
URL:https://www.parrocchiasantacaterinadasiena.it/eventi/celebrazione-s-me
 ssa-2/
SUMMARY:Celebrazione S. Messa
DESCRIPTION:La celebrazione della S. Messa sarà anticipata alle ore 16:30\
 , poiché alle ore 18:00 in Chiesa vi sarà il Concerto del Coro di voci 
 bianche della Fondazione Orchestra Sinfonica Siciliana di Palermo\, con l
 a partecipazione di un coro di 51 bambini.
CATEGORIES:Celebrazioni
LOCATION:Parrocchia Santa Caterina da Siena\, Via Dell'Airone\, 18\, Palerm
 o\, 90125\, Italia
X-APPLE-STRUCTURED-LOCATION;VALUE=URI;X-ADDRESS=Via Dell'Airone\, 18\, Pale
 rmo\, 90125\, Italia;X-APPLE-RADIUS=100;X-TITLE=Parrocchia Santa Caterina 
 da Siena:geo:0,0
END:VEVENT
END:VCALENDAR