BEGIN:VCALENDAR
VERSION:2.0
PRODID:-//wp-events-plugin.com//7.2.3.1//EN
BEGIN:VEVENT
UID:158@parrocchiasantacaterinadasiena.it
DTSTART:20251010T170000Z
DTEND:20251010T200000Z
DTSTAMP:20251003T113650Z
URL:https://www.parrocchiasantacaterinadasiena.it/eventi/assemblea-pastora
 le-diocesana/
SUMMARY:Assemblea Pastorale Diocesana
DESCRIPTION:
ATTACH;FMTTYPE=image/jpeg:https://www.parrocchiasantacaterinadasiena.it/wp
 -content/uploads/2025/10/Assemblea-Pastorale-Diocesana.jpg
CATEGORIES:Eventi di zona pastorale
LOCATION:Parrocchia Santa Caterina da Siena\, Via Dell'Airone\, 18\, Palerm
 o\, 90125\, Italia
X-APPLE-STRUCTURED-LOCATION;VALUE=URI;X-ADDRESS=Via Dell'Airone\, 18\, Pale
 rmo\, 90125\, Italia;X-APPLE-RADIUS=100;X-TITLE=Parrocchia Santa Caterina 
 da Siena:geo:0,0
END:VEVENT
END:VCALENDAR