BEGIN:VCALENDAR
VERSION:2.0
PRODID:-//wp-events-plugin.com//7.2.3.1//EN
BEGIN:VEVENT
UID:114@parrocchiasantacaterinadasiena.it
DTSTART:20250327T170000Z
DTEND:20250327T193000Z
DTSTAMP:20250324T122533Z
URL:https://www.parrocchiasantacaterinadasiena.it/eventi/aggiornamento-teo
 logico/
SUMMARY:Aggiornamento Teologico
DESCRIPTION:L'argomento dell'incontro sarà:\nAccoglienza e accompagnamento
  delle persone omosessuali.
ATTACH;FMTTYPE=image/jpeg:https://www.parrocchiasantacaterinadasiena.it/wp
 -content/uploads/2025/03/Aggiornamento-teologico-pastorale.jpg
CATEGORIES:Eventi Parrocchiali
LOCATION:Parrocchia Santa Caterina da Siena\, Via Dell'Airone\, 18\, Palerm
 o\, 90125\, Italia
X-APPLE-STRUCTURED-LOCATION;VALUE=URI;X-ADDRESS=Via Dell'Airone\, 18\, Pale
 rmo\, 90125\, Italia;X-APPLE-RADIUS=100;X-TITLE=Parrocchia Santa Caterina 
 da Siena:geo:0,0
END:VEVENT
END:VCALENDAR