BEGIN:VCALENDAR
VERSION:2.0
PRODID:-//wp-events-plugin.com//7.2.3.1//EN
BEGIN:VEVENT
UID:180@parrocchiasantacaterinadasiena.it
DTSTART:20260210T210000Z
DTEND:20260210T220000Z
DTSTAMP:20260209T231350Z
URL:https://www.parrocchiasantacaterinadasiena.it/eventi/adorazione-eucari
 stica-animata-da-rinnovamento-dello-spirito-2/
SUMMARY:Adorazione Eucaristica animata da Rinnovamento dello Spirito
DESCRIPTION:
ATTACH;FMTTYPE=image/jpeg:https://www.parrocchiasantacaterinadasiena.it/wp
 -content/uploads/2026/02/adorazione-RnS.jpg
CATEGORIES:Celebrazioni
LOCATION:Parrocchia Santa Caterina da Siena\, Via Dell'Airone\, 18\, Palerm
 o\, 90125\, Italia
X-APPLE-STRUCTURED-LOCATION;VALUE=URI;X-ADDRESS=Via Dell'Airone\, 18\, Pale
 rmo\, 90125\, Italia;X-APPLE-RADIUS=100;X-TITLE=Parrocchia Santa Caterina 
 da Siena:geo:0,0
END:VEVENT
END:VCALENDAR