BEGIN:VCALENDAR
VERSION:2.0
PRODID:-//wp-events-plugin.com//7.2.3.1//EN
BEGIN:VEVENT
UID:118@parrocchiasantacaterinadasiena.it
DTSTART:20250401T210000Z
DTEND:20250401T220000Z
DTSTAMP:20251108T085811Z
URL:https://www.parrocchiasantacaterinadasiena.it/eventi/adorazione-eucari
 stica-19/
SUMMARY:Adorazione Eucaristica animata da Rinnovamento dello Spirito
DESCRIPTION:
ATTACH;FMTTYPE=image/jpeg:https://www.parrocchiasantacaterinadasiena.it/wp
 -content/uploads/2025/03/Adorazione_01.04.2025-1.jpg
CATEGORIES:Celebrazioni
LOCATION:Parrocchia Santa Caterina da Siena\, Via Dell'Airone\, 18\, Palerm
 o\, 90125\, Italia
X-APPLE-STRUCTURED-LOCATION;VALUE=URI;X-ADDRESS=Via Dell'Airone\, 18\, Pale
 rmo\, 90125\, Italia;X-APPLE-RADIUS=100;X-TITLE=Parrocchia Santa Caterina 
 da Siena:geo:0,0
END:VEVENT
END:VCALENDAR