BEGIN:VCALENDAR
VERSION:2.0
PRODID:-//wp-events-plugin.com//7.2.3.1//EN
BEGIN:VEVENT
UID:157@parrocchiasantacaterinadasiena.it
DTSTART:20251001T163000Z
DTEND:20251001T183000Z
DTSTAMP:20251001T094100Z
URL:https://www.parrocchiasantacaterinadasiena.it/eventi/85o-anniversario-
 della-morte-della-venerabile-maria-carmelina-leone/
SUMMARY:85º Anniversario della morte della Venerabile Maria Carmelina Leon
 e
DESCRIPTION:Ore 16:30 si reciterà il Santo Rosario meditato con i testi de
 lla Venerabile Maria Carmelina Leone.\n\nore 17:30 S. Messa
ATTACH;FMTTYPE=image/jpeg:https://www.parrocchiasantacaterinadasiena.it/wp
 -content/uploads/2025/07/Maria-Carmelina-Leone1.jpg
CATEGORIES:Celebrazioni
LOCATION:Parrocchia Santa Caterina da Siena\, Via Dell'Airone\, 18\, Palerm
 o\, 90125\, Italia
X-APPLE-STRUCTURED-LOCATION;VALUE=URI;X-ADDRESS=Via Dell'Airone\, 18\, Pale
 rmo\, 90125\, Italia;X-APPLE-RADIUS=100;X-TITLE=Parrocchia Santa Caterina 
 da Siena:geo:0,0
END:VEVENT
END:VCALENDAR