BEGIN:VCALENDAR
VERSION:2.0
PRODID:-//wp-events-plugin.com//7.2.3.1//EN
BEGIN:VEVENT
UID:160@parrocchiasantacaterinadasiena.it
DTSTART:20251012T100000Z
DTEND:20251012T133000Z
DTSTAMP:20251003T114306Z
URL:https://www.parrocchiasantacaterinadasiena.it/eventi/31o-anniversario-
 scout-palermo-23/
SUMMARY:31º Anniversario Scout Palermo 23
DESCRIPTION:
ATTACH;FMTTYPE=image/jpeg:https://www.parrocchiasantacaterinadasiena.it/wp
 -content/uploads/2025/10/31o-Anniversario-Scout-Palermo-23.jpg
CATEGORIES:Celebrazioni,Eventi Parrocchiali
LOCATION:Parrocchia Santa Caterina da Siena\, Via Dell'Airone\, 18\, Palerm
 o\, 90125\, Italia
X-APPLE-STRUCTURED-LOCATION;VALUE=URI;X-ADDRESS=Via Dell'Airone\, 18\, Pale
 rmo\, 90125\, Italia;X-APPLE-RADIUS=100;X-TITLE=Parrocchia Santa Caterina 
 da Siena:geo:0,0
END:VEVENT
END:VCALENDAR